Workbook

Sheet PLAN S PROJEKCIJAMA

Sheet 2025
B1: TERMALNI VODENI PARK AQUAE BALISSAE DARUVAR
B2: Klasa: 400-01/25-01/01
B3: UR.BR.: 2111-45-03-26-01
B4: Daruvar, 06.06.2026.g.
B7: FINANCIJSKI PLAN ZA 2025. g.(BEZ PDV-A)
A8: Konto | B8: Opis | C8: PLAN 2025. (euro) | D8: NOVI PLAN ZA 2025 | E8: Ostvarenje do 31.12.2025. | F8: Ostvareno do 31.12.2024.
A9: 7510 | B9: Prihodi od usluga (održavanje fontane i dr.) | C9: 150 | D9: 0 | E9: 0 | F9: 0
A10: 7511 | B10: Prihodi od kavana-ugostiteljstvo | C10: 320000 | D10: 271707.18 | E10: 269128.54 | F10: 239395.37
A11: 7570 | B11: Prihodi od ulaznica (82.900,00 Grad subvencije za 2025.g.) | C11: 440000 | D11: 475571.11 | E11: 476991.39 | F11: 383956.4
A12: 7512 | B12: Ostali poslovni prihodi -proizvodnja el.energije | C12: 1500 | D12: 625.25 | E12: 625.25 | F12: 1344.24
A13: 7800 | B13: Prihodi od naknadnih odobrenja- sniženja i popusta | C13: 40155 | D13: 23824.19 | E13: 24659.44 | F13: =348.14+0.78 -> 348.92
A14: 7837 | B14: Prihodi od Grada Daruvara - kapitalna pomoć | C14: 50000 | D14: 21787.94 | E14: 10385.19 | F14: 14397.5
A15: 7710 | B15: Prihodi od kamata po žiro računu i tečajnih razlika | C15: 718.11 | D15: 1700 | E15: 1924.33 | F15: 786.03
A16: 7799 | B16: OSTALI NESPOMENUTI PRIHODI | C16: 404.23 | D16: 0 | E16: =498.8+88.13 -> 586.93 | F16: =3452.28+76.7 -> 3528.98
A17: 7811 | B17: Prihodi od prodaje dugotrajne imovine | C17: 1500 | D17: 0 | E17: 0 | F17: 0
A18: 7814 | B18: Inventurni viškovi na robi, proizvodima i zalihama siro | C18: 0 | D18: 0 | E18: 0 | F18: 98.9
A19: 7840 | B19: Prihodi od usklađivanja zaliha | C19: 0 | D19: 0 | E19: 0 | F19: 1818.27
A20: 7860 | B20: Prihodi od potpora za pokriće troškova | C20: 0 | D20: 0 | E20: 0 | F20: 39748.52
A21: 7861 | B21: Prihodi od državnih potpora za investicije (imovinu)-elektrana | C21: 10585.5 | D21: 0 | E21: 11129.75 | F21: 11129.75
B22: UKUPNI PRIHODI | C22: =SUM(C9:C21) -> 865012.84 | D22: =SUM(D9:D21) -> 795215.67 | E22: =SUM(E9:E21) -> 795430.82 | F22: =SUM(F10:F21) -> 696552.88
A24: Konto | B24: Opis | C24: PLAN 2025. (euro) | D24: Novi plan 31.12.2025. | E24: Ostvarenje do 31.12.2025. | F24: Ostvareno do 31.12.2024.
A25: 4000 | B25: Materijal i roba za ugostiteljstvo | C25: 107000 | D25: 81000 | E25: 78647.43 | F25: 76061.37
A26: 4002 | B26: Pomoćni materijal- wellnes | C26: 1700 | D26: 800 | E26: 692.87 | F26: 858.12
A27: 4003 | B27: Pomoćni materijal u ugostiteljstvu | C27: 4600 | D27: 3500 | E27: 3184.92 | F27: 2983.68
A28: 4004 | B28: Materija za čišćenje i održavanje (bazen) | C28: 11000 | D28: 9679.7 | E28: 9679.7 | F28: 8286.1
A29: 4005 | B29: Radna obuća i odjeća | C29: 2600 | D29: 1500 | E29: 1188.91 | F29: 601.87
A30: 4010 | B30: Uredski potrošni materijal | C30: 2000 | D30: 1500 | E30: 1275.64 | F30: 899.73
A31: 4011 | B31: Materijal i sredstava za čišćenje i održavanje | C31: 2641 | D31: 4800 | E31: 4555.35 | F31: 1107.19
A32: 40111 | B32: Sredstva za održavanje i čišćenje | C32: 8500 | D32: 4124.55 | E32: 4124.55 | F32: 3672.93
A33: 40112 | B33: Elektromaterijal i pomoćni mat. za održavanje postrojenja | C33: 2641 | D33: 2600 | E33: 1073.62 | F33: 918.85
A34: 4012 | B34: Trošak ukrasnog bilja | C34: 200 | D34: 32.65 | E34: 0 | F34: 0
A35: 4013 | B35: Trošak ambalaže | C35: 950 | D35: 980 | E35: 945.82 | F35: 692.7
A36: 4017 | B36: Ostali materijalni troškovi | C36: 1000 | D36: 600 | E36: 427.29 | F36: 554.01
... A44: 4071 | B44: Plin, toplinska energija, briketi i dr. | C44: 300 | D44: 200 | E44: 131.2 | F44: 217.84
B45: mobilni telefon | C45: 1500 | D45: 1000 | E45: 1249.02 | F45: 929.45
B46: fiksni telefon i Internet | C46: 600 | D46: 280 | E46: 0 | F46: 232.36
A47: 41490 | B47: Tomsoft I El.računi,Orbis, Posluh | C47: 1000 | D47: 1100 | E47: 0 | F47: =215.29+427.13 -> 642.42
A48: 4101 | B48: Poštanski troškovi i troškovi dostave | C48: 100 | D48: 30 | E48: 22.57 | F48: 32.9
A49: 4102 | B49: PRIJEVOZNE USLUGE U CESTOVNOM PROMETU | C49: 0 | D49: 190 | E49: 190 | F49: 0
A50: 4108 | B50: Troškovi dostave | C50: 100 | D50: 129 | E50: 129.7 | F50: 12.4
A51: 4173 | B51: Koncesija za vodu | C51: 20000 | D51: 29500 | E51: 25921.93 | F51: 19005.69
A52: 4114 | B52: Grafičke usluge | C52: 2200 | D52: 434.6 | E52: 98 | F52: 673
A53: 4120 | B53: Usluge tekućeg održavanja | C53: 31064 | D53: 17000 | E53: 15906.8 | F53: 26208.49
A54: 4122 | B54: Usluge čišćenja i pranja | C54: 2400 | D54: 1800 | E54: 1417.6 | F54: 1262.24
A55: 4123 | B55: Usluge održavanja softvera i hardvera | C55: 2641 | D55: 0 | E55: =167.46+743.99 -> 911.45 | F55: 1526.98
A56: 4124 | B56: Usluge održavanja vatrogasnog sustava | C56: 1000 | D56: 784.63 | E56: 784.63 | F56: 297.39
A57: 4127 | B57: Usluga zaštite na radu | C57: 1100 | D57: 840 | E57: 840 | F57: 899.73
A58: 4128 | B58: Usluga zaštitarskih servisa | C58: 8500 | D58: 7539.2 | E58: 7539.2 | F58: 6044.4
A59: 4129 | B59: Ostale servisne usluge i usluge osoba | C59: 1500 | D59: 0 | E59: 0 | F59: 287
A60: 4132 | B60: Troškovi registracije dostavnih vozila | C60: 200 | D60: 191.23 | E60: 191.23 | F60: 181.36
A61: 4141 | B61: Najam opreme | C61: 250 | D61: 220.56 | E61: 202.18 | F61: 209.68
A62: 41492 | B62: Usluge web sjedišta (hosting) | C62: 0 | D62: 0 | E62: 92.38 | F62: 0
A63: 4150 | B63: Troškovi promidžbe | C63: 5282 | D63: 2256 | E63: 2256 | F63: 2256
A64: 4160 | B64: Troškovi honorara | C64: 6000 | D64: 4500 | E64: 4449.42 | F64: 4491.71
A65: 4164 | B65: Usluge knjigovodstva | C65: 6000 | D65: 5358.1 | E65: 5358.1 | F65: 4459.44
A66: 4167 | B66: Usluge odvjetnika, pravnika, javnih bilježnika | C66: 500 | D66: 300 | E66: 300 | F66: 294.74
A67: 4168 | B67: Usluge ZAMP-a | C67: 2000 | D67: 443.56 | E67: 437.51 | F67: 145.26
... A73: 4199 | B73: Ostale vanjske usluge | C73: 200 | D73: 512.55 | E73: 512.55 | F73: 0
B74: Ukupan trošak za plaće | C74: 330000 | D74: 347622.76 | E74: 347453.11 | F74: 294634.17
A75: 4310 | B75: Amortizacija | C75: 62430.18 | D75: 67505.64 | E75: 67505.64 | F75: 68025.06
A76: 4600 | B76: Dnevnice | C76: 1000 | D76: 0 | E76: 0 | F76: 0
A77: 4609 | B77: Ostali troškovi na službenom putu | C77: 1000 | D77: 147 | E77: 147 | F77: 0
A78: 4615 | B78: Prigodne nagrade i potpore | C78: 9000 | D78: 10200 | E78: 11900 | F78: 7300
A79: 4610 | B79: Troškovi prijevoza na posao i s posla | C79: 4500 | D79: 3400 | E79: 3568.3 | F79: 858
A80: 4614 | B80: Novčane paušalne naknade za podmirivanje troškova prehrane | C80: 26000 | D80: 21245 | E80: 21144.41 | F80: 22528.84
A81: 46150 | B81: Nagrada za radne rezultate | C81: 10700 | D81: 15700 | E81: 15700 | F81: 10700
A82: 4617 | B82: Potpora zbog bolesti, invalidnosti, smrti, elementarnih | C82: 2000 | D82: 600 | E82: 600 | F82: 1327.24
A83: 4628 | B83: Jubilarne nagrade | C83: 1000 | D83: 600 | E83: 600 | F83: 280
A84: 4630 | B84: Reprezentacija | C84: 700 | D84: 150 | E84: 79.7 | F84: 130.76
A85: 4640 | B85: Premije osiguranja imovine | C85: 4500 | D85: 3989.03 | E85: 4014.21 | F85: 3560.82
A86: 4642 | B86: Premije osiguranja dostavnih vozila | C86: 300 | D86: 231.53 | E86: 231.53 | F86: 214.47
A87: 4650 | B87: Troškovi platnog prometa | C87: 5000 | D87: 6400 | E87: 6275.16 | F87: =2829.316+1973.72 -> 4803.036
A88: 4684 | B88: Troškovi HRT pretplate | C88: 250 | D88: 21.24 | E88: 21.24 | F88: 0
A89: 4690 | B89: TROŠKOVI IZOBRAZBE ZAPOSLENIKA | C89: 0 | D89: 179.68 | E89: 179.68 | F89: 0
A90: 4692 | B90: Trošak službenih glasila | C90: 300 | D90: 199.08 | E90: 199.08 | F90: =18.58+199.08 -> 217.66
A91: 4693 | B91: Sudski troškovi i pristojbe | C91: 2000 | D91: 0 | E91: 0 | F91: 66.36
A92: 4694 | B92: Troškovi zdravstvenih nadzora | C92: 3000 | D92: 5244.83 | E92: 3541.3 | F92: 2014
A93: 4695 | B93: Troškovi liječničkog pregleda zaposlenika | C93: 0 | D93: 0 | E93: 387.1 | F93: =1015.3+805.26 -> 1820.56
A94: 46960 | B94: Troškovi liječničkih pregleda - Grawe | C94: 4580.72 | D94: 3029.84 | E94: 3029.84 | F94: 0
A95: 4740 | B95: Zatezne kamate | C95: 400 | D95: 50 | E95: 21.58 | F95: 126.29
A96: 4831 | B96: Troškovi dopuštenih manjkova u ugostiteljstvu | C96: 500 | D96: 400 | E96: 237.33 | F96: 275.96
B97: Troškovi javnih davanja (porez na potrošnju, TZ i dr.) | C97: 2000 | D97: 2000 | E97: 2847.95 | F97: =992.31+1656.89 -> 2649.2
B98: Ostali nepredviđeni troškovi | C98: 3500 | D98: 1000 | E98: 846.87 | F98: 0.03
B99: UKUPNI TROŠKOVI | C99: =SUM(C25:C98) -> 864151.9 | D99: =SUM(D25:D98) -> 790327.85 | E99: =SUM(E25:E98) -> 779999.13 | F99: =SUM(F25:F98) -> 705352.92
B100: DOBIT | C100: =C22-C99 -> 860.94 | D100: =D22-D99 -> 4887.82 | E100: =E22-E99 -> 15431.69 | F100: =F22-F99 -> -8800.036

Sheet 2026
A1: TERMALNI VODENI PARK AQUAE BALISSAE DARUVAR
A2: Klasa: 400-01/25-01/01
A3: UR.BR.: 2103-3-45-03-25-01
A4: Daruvar, 26.12.2025.g.
B7: PRIJEDLOG FINANCIJSKOG PLANA ZA 2026. g.(BEZ PDV-A)
A8: Konto | B8: Opis | C8: PLAN 2026.(EURO) | D8: Projekcija za 2027. godinu | E8: Projekcija za 2028. godinu
A9: 7510 | B9: Prihodi od usluga (održavanje fontane i dr.) | C9: ='2025'!E9*2%+'2025'!E9 -> 0
A10: 7511 | B10: Prihodi od kavana-ugostiteljstvo | C10: ='2025'!E10*2%+'2025'!E10 -> 274511.11 | D10: =(C10*2%)+C10 -> 280001.33 | E10: =(D10*2%)+D10 -> 285601.36
A11: 7570 | B11: Prihodi od ulaznica (82.900,00 Grad subvencije za 2025.g.) | C11: ='2025'!E11*2%+'2025'!E11 -> 486531.22 | D11: =(C11*2%)+C11 -> 496261.84 | E11: =(D11*2%)+D11 -> 506187.08
A12: 7512 | B12: Ostali poslovni prihodi -proizvodnja el.energije | C12: ='2025'!E12*2%+'2025'!E12 -> 637.755 | D12: =(C12*2%)+C12 -> 650.5101 | E12: =(D12*2%)+D12 -> 663.5203
A13: 7800 | B13: Prihodi od naknadnih odobrenja- sniženja i popusta | C13: ='2025'!E13*2%+'2025'!E13 -> 25152.629 | D13: =(C13*2%)+C13 -> 25655.681 | E13: =(D13*2%)+D13 -> 26168.795
A14: 7837 | B14: Prihodi od Grada Daruvara - kapitalna pomoć | C14: ='2025'!E14*2%+'2025'!E14 -> 10592.894 | D14: =(C14*2%)+C14 -> 10804.752 | E14: =(D14*2%)+D14 -> 11020.847
A15: 7710 | B15: Prihodi od kamata po žiro računu i tečajnih razlika | C15: ='2025'!E15*2%+'2025'!E15 -> 1962.8166 | D15: =(C15*2%)+C15 -> 2002.0729 | E15: =(D15*2%)+D15 -> 2042.1144
A16: 7799 | B16: OSTALI NESPOMENUTI PRIHODI | C16: ='2025'!E16*2%+'2025'!E16 -> 598.6686 | D16: =(C16*2%)+C16 -> 610.64197 | E16: =(D16*2%)+D16 -> 622.85481
A17: 7811 | B17: Prihodi od prodaje dugotrajne imovine | C17: ='2025'!E17*2%+'2025'!E17 -> 0 | D17: =(C17*2%)+C17 -> 0 | E17: =(D17*2%)+D17 -> 0
A18: 7814 | B18: Inventurni viškovi na robi, proizvodima i zalihama siro | C18: ='2025'!E18*2%+'2025'!E18 -> 0 | D18: =(C18*2%)+C18 -> 0 | E18: =(D18*2%)+D18 -> 0
A19: 7840 | B19: Prihodi od usklađivanja zaliha | C19: ='2025'!E19*2%+'2025'!E19 -> 0 | D19: =(C19*2%)+C19 -> 0 | E19: =(D19*2%)+D19 -> 0
A20: 7860 | B20: Prihodi od potpora za pokriće troškova-HEP OPSKRBA | C20: ='2025'!E20*2%+'2025'!E20 -> 0 | D20: =(C20*2%)+C20 -> 0 | E20: =(D20*2%)+D20 -> 0
A21: 7861 | B21: Prihodi od državnih potpora za investicije (imovinu)-elektrana | C21: ='2025'!E21*2%+'2025'!E21 -> 11352.345 | D21: =(C21*2%)+C21 -> 11579.392 | E21: =(D21*2%)+D21 -> 11810.98
B22: UKUPNI PRIHODI | C22: =SUM(C9:C21) -> 811339.44 | D22: =SUM(D9:D21) -> 827566.23 | E22: =SUM(E9:E21) -> 844117.55
A24: Konto | B24: Opis
A25: 4000 | B25: Materijal i roba za ugostiteljstvo | C25: ='2025'!E25*2%+'2025'!E25 -> 80220.379 | D25: =(C25*2%)+C25 -> 81824.786 | E25: =(D25*2%)+D25 -> 83461.282
A26: 4002 | B26: Pomoćni materijal- wellnes | C26: ='2025'!E26*2%+'2025'!E26 -> 706.7274 | D26: =(C26*2%)+C26 -> 720.86195 | E26: =(D26*2%)+D26 -> 735.27919
A27: 4003 | B27: Pomoćni materijal u ugostiteljstvu | C27: ='2025'!E27*2%+'2025'!E27 -> 3248.6184 | D27: =(C27*2%)+C27 -> 3313.5908 | E27: =(D27*2%)+D27 -> 3379.8626
A28: 4004 | B28: Materija za čišćenje i održavanje (bazen) | C28: ='2025'!E28*2%+'2025'!E28 -> 9873.294 | D28: =(C28*2%)+C28 -> 10070.76 | E28: =(D28*2%)+D28 -> 10272.175
A29: 4005 | B29: Radna obuća i odjeća | C29: ='2025'!E29*2%+'2025'!E29 -> 1212.6882 | D29: =(C29*2%)+C29 -> 1236.942 | E29: =(D29*2%)+D29 -> 1261.6808
A30: 4010 | B30: Uredski potrošni materijal | C30: ='2025'!E30*2%+'2025'!E30 -> 1301.1528 | D30: =(C30*2%)+C30 -> 1327.1759 | E30: =(D30*2%)+D30 -> 1353.7194
A31: 4011 | B31: Materijal i sredstava za čišćenje i održavanje | C31: ='2025'!E31*2%+'2025'!E31 -> 4646.457 | D31: =(C31*2%)+C31 -> 4739.3861 | E31: =(D31*2%)+D31 -> 4834.1739
A32: 40111 | B32: Sredstva za održavanje i čišćenje | C32: ='2025'!E32*2%+'2025'!E32 -> 4207.041 | D32: =(C32*2%)+C32 -> 4291.1818 | E32: =(D32*2%)+D32 -> 4377.0055
A33: 40112 | B33: Elektromaterijal i pomoćni mat. za održavanje postrojenja | C33: ='2025'!E33*2%+'2025'!E33 -> 1095.0924 | D33: =(C33*2%)+C33 -> 1116.9942 | E33: =(D33*2%)+D33 -> 1139.3341
A34: 4012 | B34: Trošak ukrasnog bilja | C34: ='2025'!E34*2%+'2025'!E34 -> 0 | D34: =(C34*2%)+C34 -> 0 | E34: =(D34*2%)+D34 -> 0
A35: 4013 | B35: Trošak ambalaže | C35: ='2025'!E35*2%+'2025'!E35 -> 964.7364 | D35: =(C35*2%)+C35 -> 984.03113 | E35: =(D35*2%)+D35 -> 1003.7118
A36: 4017 | B36: Ostali materijalni troškovi | C36: ='2025'!E36*2%+'2025'!E36 -> 435.8358 | D36: =(C36*2%)+C36 -> 444.55252 | E36: =(D36*2%)+D36 -> 453.44357
... A44: 4071 | B44: Plin, toplinska energija, briketi i dr. | C44: ='2025'!E44*2%+'2025'!E44 -> 133.824 | D44: =(C44*2%)+C44 -> 136.50048 | E44: =(D44*2%)+D44 -> 139.23049
B45: mobilni telefon | C45: ='2025'!E45*2%+'2025'!E45 -> 1274.0004 | D45: =(C45*2%)+C45 -> 1299.4804 | E45: =(D45*2%)+D45 -> 1325.47
B46: fiksni telefon i Internet | C46: ='2025'!E46*2%+'2025'!E46 -> 0 | D46: =(C46*2%)+C46 -> 0 | E46: =(D46*2%)+D46 -> 0
A47: 41490 | B47: Tomsoft I El.računi,Orbis, Posluh | C47: ='2025'!E47*2%+'2025'!E47 -> 0 | D47: =(C47*2%)+C47 -> 0 | E47: =(D47*2%)+D47 -> 0
A48: 4101 | B48: Poštanski troškovi i troškovi dostave | C48: ='2025'!E48*2%+'2025'!E48 -> 23.0214 | D48: =(C48*2%)+C48 -> 23.481828 | E48: =(D48*2%)+D48 -> 23.951465
A49: 4102 | B49: PRIJEVOZNE USLUGE U CESTOVNOM PROMETU | C49: ='2025'!E49*2%+'2025'!E49 -> 193.8 | D49: =(C49*2%)+C49 -> 197.676 | E49: =(D49*2%)+D49 -> 201.62952
A50: 4108 | B50: Troškovi dostave | C50: ='2025'!E50*2%+'2025'!E50 -> 132.294 | D50: =(C50*2%)+C50 -> 134.93988 | E50: =(D50*2%)+D50 -> 137.63868
A51: 4173 | B51: Koncesija za vodu | C51: ='2025'!E51*2%+'2025'!E51 -> 26440.369 | D51: =(C51*2%)+C51 -> 26969.176 | E51: =(D51*2%)+D51 -> 27508.559
A52: 4114 | B52: Grafičke usluge | C52: ='2025'!E52*2%+'2025'!E52 -> 99.96 | D52: =(C52*2%)+C52 -> 101.9592 | E52: =(D52*2%)+D52 -> 103.99838
A53: 4120 | B53: Usluge tekućeg održavanja | C53: ='2025'!E53*2%+'2025'!E53 -> 16224.936 | D53: =(C53*2%)+C53 -> 16549.435 | E53: =(D53*2%)+D53 -> 16880.423
A54: 4122 | B54: Usluge čišćenja i pranja | C54: ='2025'!E54*2%+'2025'!E54 -> 1445.952 | D54: =(C54*2%)+C54 -> 1474.871 | E54: =(D54*2%)+D54 -> 1504.3685
A55: 4123 | B55: Usluge održavanja softvera i hardvera | C55: ='2025'!E55*2%+'2025'!E55 -> 929.679 | D55: =(C55*2%)+C55 -> 948.27258 | E55: =(D55*2%)+D55 -> 967.23803
A56: 4124 | B56: Usluge održavanja vatrogasnog sustava | C56: ='2025'!E56*2%+'2025'!E56 -> 800.3226 | D56: =(C56*2%)+C56 -> 816.32905 | E56: =(D56*2%)+D56 -> 832.65563
A57: 4127 | B57: Usluga zaštite na radu | C57: ='2025'!E57*2%+'2025'!E57 -> 856.8 | D57: =(C57*2%)+C57 -> 873.936 | E57: =(D57*2%)+D57 -> 891.41472
A58: 4128 | B58: Usluga zaštitarskih servisa | C58: ='2025'!E58*2%+'2025'!E58 -> 7689.984 | D58: =(C58*2%)+C58 -> 7843.7837 | E58: =(D58*2%)+D58 -> 8000.6594
... A73: 4199 | B73: Ostale vanjske usluge | C73: ='2025'!E73*2%+'2025'!E73 -> 522.801 | D73: =(C73*2%)+C73 -> 533.25702 | E73: =(D73*2%)+D73 -> 543.92216
B74: Ukupan trošak za plaće | C74: ='2025'!E74*2%+'2025'!E74 -> 354402.17 | D74: =(C74*2%)+C74 -> 361490.22 | E74: =(D74*2%)+D74 -> 368720.02
A75: 4310 | B75: Amortizacija | C75: ='2025'!E75*2%+'2025'!E75 -> 68855.753 | D75: =(C75*2%)+C75 -> 70232.868 | E75: =(D75*2%)+D75 -> 71637.525
A76: 4600 | B76: Dnevnice | C76: ='2025'!E76*2%+'2025'!E76 -> 0 | D76: =(C76*2%)+C76 -> 0 | E76: =(D76*2%)+D76 -> 0
A77: 4609 | B77: Ostali troškovi na službenom putu | C77: ='2025'!E77*2%+'2025'!E77 -> 149.94 | D77: =(C77*2%)+C77 -> 152.9388 | E77: =(D77*2%)+D77 -> 155.99758
A78: 4615 | B78: Prigodne nagrade i potpore | C78: ='2025'!E78*2%+'2025'!E78 -> 12138 | D78: =(C78*2%)+C78 -> 12380.76 | E78: =(D78*2%)+D78 -> 12628.375
A79: 4610 | B79: Troškovi prijevoza na posao i s posla | C79: ='2025'!E79*2%+'2025'!E79 -> 3639.666 | D79: =(C79*2%)+C79 -> 3712.4593 | E79: =(D79*2%)+D79 -> 3786.7085
A80: 4614 | B80: Novčane paušalne naknade za podmirivanje troškova prehrane | C80: ='2025'!E80*2%+'2025'!E80 -> 21567.298 | D80: =(C80*2%)+C80 -> 21998.644 | E80: =(D80*2%)+D80 -> 22438.617
A81: 46150 | B81: Nagrada za radne rezultate | C81: ='2025'!E81*2%+'2025'!E81 -> 16014 | D81: =(C81*2%)+C81 -> 16334.28 | E81: =(D81*2%)+D81 -> 16660.966
A82: 4617 | B82: Potpora zbog bolesti, invalidnosti, smrti, elementarnih | C82: ='2025'!E82*2%+'2025'!E82 -> 612 | D82: =(C82*2%)+C82 -> 624.24 | E82: =(D82*2%)+D82 -> 636.7248
A83: 4628 | B83: Jubilarne nagrade | C83: ='2025'!E83*2%+'2025'!E83 -> 612 | D83: =(C83*2%)+C83 -> 624.24 | E83: =(D83*2%)+D83 -> 636.7248
A84: 4630 | B84: Reprezentacija | C84: ='2025'!E84*2%+'2025'!E84 -> 81.294 | D84: =(C84*2%)+C84 -> 82.91988 | E84: =(D84*2%)+D84 -> 84.578278
A85: 4640 | B85: Premije osiguranja imovine | C85: ='2025'!E85*2%+'2025'!E85 -> 4094.4942 | D85: =(C85*2%)+C85 -> 4176.3841 | E85: =(D85*2%)+D85 -> 4259.9118
A86: 4642 | B86: Premije osiguranja dostavnih vozila | C86: ='2025'!E86*2%+'2025'!E86 -> 236.1606 | D86: =(C86*2%)+C86 -> 240.88381 | E86: =(D86*2%)+D86 -> 245.70149
... A96: 4831 | B96: Troškovi dopuštenih manjkova u ugostiteljstvu | C96: ='2025'!E96*2%+'2025'!E96 -> 242.0766 | D96: =(C96*2%)+C96 -> 246.91813 | E96: =(D96*2%)+D96 -> 251.85649
B97: Troškovi javnih davanja (porez na potrošnju, TZ i dr.) | C97: ='2025'!E97*2%+'2025'!E97 -> 2904.909 | D97: =(C97*2%)+C97 -> 2963.0072 | E97: =(D97*2%)+D97 -> 3022.2673
B98: Ostali nepredviđeni troškovi | C98: ='2025'!E98*2%+'2025'!E98 -> 863.8074 | D98: =(C98*2%)+C98 -> 881.08355 | E98: =(D98*2%)+D98 -> 898.70522
B99: UKUPNI TROŠKOVI | C99: =SUM(C25:C98) -> 795599.11 | D99: =SUM(D25:D98) -> 811511.09 | E99: =SUM(E25:E98) -> 827741.32
B100: DOBIT | C100: =C22-C99 -> 15740.324 | D100: =D22-D99 -> 16055.13 | E100: =E22-E99 -> 16376.233
