Workbook

Sheet PLAN S PROJEKCIJAMA

Sheet 2025
B1: TERMALNI VODENI PARK AQUAE BALISSAE DARUVAR
B2: Klasa: 400-01/25-01/01
B3: UR.BR.: 2111-45-03-26-01
B4: Daruvar, 06.06.2026.g.
B7: FINANCIJSKI PLAN ZA 2025. g.(BEZ PDV-A)
A8: Konto | B8: Opis | C8: PLAN 2025. (euro) | D8: NOVI PLAN ZA 2025 | E8: Ostvarenje do 31.12.2025. | F8: Ostvareno do 31.12.2024.
A9: 7510 | B9: Prihodi od usluga (održavanje fontane i dr.) | C9: 150 | D9: 0 | E9: 0 | F9: 0
A10: 7511 | B10: Prihodi od kavana-ugostiteljstvo | C10: 320000 | D10: 271707.18 | E10: 269128.54 | F10: 239395.37
A11: 7570 | B11: Prihodi od ulaznica (82.900,00 Grad subvencije za 2025.g.) | C11: 440000 | D11: 475571.11 | E11: 476991.39 | F11: 383956.4
A12: 7512 | B12: Ostali poslovni prihodi -proizvodnja el.energije | C12: 1500 | D12: 625.25 | E12: 625.25 | F12: 1344.24
A13: 7800 | B13: Prihodi od naknadnih odobrenja- sniženja i popusta | C13: 40155 | D13: 23824.19 | E13: 24659.44 | F13: =348.14+0.78 -> 348.92
A14: 7837 | B14: Prihodi od Grada Daruvara - kapitalna pomoć | C14: 50000 | D14: 21787.94 | E14: 10385.19 | F14: 14397.5
A15: 7710 | B15: Prihodi od kamata po žiro računu i tečajnih razlika | C15: 718.11 | D15: 1700 | E15: 1924.33 | F15: 786.03
A16: 7799 | B16: OSTALI NESPOMENUTI PRIHODI | C16: 404.23 | D16: 0 | E16: =498.8+88.13 -> 586.93 | F16: =3452.28+76.7 -> 3528.98
A17: 7811 | B17: Prihodi od prodaje dugotrajne imovine | C17: 1500 | D17: 0 | E17: 0 | F17: 0
A18: 7814 | B18: Inventurni viškovi na robi, proizvodima i zalihama siro | C18: 0 | D18: 0 | E18: 0 | F18: 98.9
A19: 7840 | B19: Prihodi od usklađivanja zaliha | C19: 0 | D19: 0 | E19: 0 | F19: 1818.27
A20: 7860 | B20: Prihodi od potpora za pokriće troškova | C20: 0 | D20: 0 | E20: 0 | F20: 39748.52
A21: 7861 | B21: Prihodi od državnih potpora za investicije (imovinu)-elektrana | C21: 10585.5 | D21: 0 | E21: 11129.75 | F21: 11129.75
B22: UKUPNI PRIHODI | C22: =SUM(C9:C21) -> 865012.84 | D22: =SUM(D9:D21) -> 795215.67 | E22: =SUM(E9:E21) -> 795430.82 | F22: =SUM(F10:F21) -> 696552.88
A24: Konto | B24: Opis | C24: PLAN 2025. (euro) | D24: Novi plan 31.12.2025. | E24: Ostvarenje do 31.12.2025. | F24: Ostvareno do 31.12.2024.
A25: 4000 | B25: Materijal i roba za ugostiteljstvo | C25: 107000 | D25: 81000 | E25: 78647.43 | F25: 76061.37
A26: 4002 | B26: Pomoćni materijal- wellnes | C26: 1700 | D26: 800 | E26: 692.87 | F26: 858.12
A27: 4003 | B27: Pomoćni materijal u ugostiteljstvu | C27: 4600 | D27: 3500 | E27: 3184.92 | F27: 2983.68
A28: 4004 | B28: Materija za čišćenje i održavanje (bazen) | C28: 11000 | D28: 9679.7 | E28: 9679.7 | F28: 8286.1
A29: 4005 | B29: Radna obuća i odjeća | C29: 2600 | D29: 1500 | E29: 1188.91 | F29: 601.87
A30: 4010 | B30: Uredski potrošni materijal | C30: 2000 | D30: 1500 | E30: 1275.64 | F30: 899.73
A31: 4011 | B31: Materijal i sredstava za čišćenje i održavanje | C31: 2641 | D31: 4800 | E31: 4555.35 | F31: 1107.19
A32: 40111 | B32: Sredstva za održavanje i čišćenje | C32: 8500 | D32: 4124.55 | E32: 4124.55 | F32: 3672.93
A33: 40112 | B33: Elektromaterijal i pomoćni mat. za održavanje postrojenja | C33: 2641 | D33: 2600 | E33: 1073.62 | F33: 918.85
A34: 4012 | B34: Trošak ukrasnog bilja | C34: 200 | D34: 32.65 | E34: 0 | F34: 0
A35: 4013 | B35: Trošak ambalaže | C35: 950 | D35: 980 | E35: 945.82 | F35: 692.7
A36: 4017 | B36: Ostali materijalni troškovi | C36: 1000 | D36: 600 | E36: 427.29 | F36: 554.01
... A44: 4071 | B44: Plin, toplinska energija, briketi i dr. | C44: 300 | D44: 200 | E44: 131.2 | F44: 217.84
B45: mobilni telefon | C45: 1500 | D45: 1000 | E45: 1249.02 | F45: 929.45
B46: fiksni telefon i Internet | C46: 600 | D46: 280 | E46: 0 | F46: 232.36
A47: 41490 | B47: Tomsoft I El.računi,Orbis, Posluh | C47: 1000 | D47: 1100 | E47: 0 | F47: =215.29+427.13 -> 642.42
A48: 4101 | B48: Poštanski troškovi i troškovi dostave | C48: 100 | D48: 30 | E48: 22.57 | F48: 32.9
A49: 4102 | B49: PRIJEVOZNE USLUGE U CESTOVNOM PROMETU | C49: 0 | D49: 190 | E49: 190 | F49: 0
A50: 4108 | B50: Troškovi dostave | C50: 100 | D50: 129 | E50: 129.7 | F50: 12.4
...

Sheet 2026
A1: TERMALNI VODENI PARK AQUAE BALISSAE DARUVAR
A2: Klasa: 400-01/25-01/01
A3: UR.BR.: 2103-3-45-03-25-01
A4: Daruvar, 26.12.2025.g.
B7: PRIJEDLOG FINANCIJSKOG PLANA ZA 2026. g.(BEZ PDV-A)
A8: Konto | B8: Opis | C8: PLAN 2026.(EURO) | D8: Projekcija za 2027. godinu | E8: Projekcija za 2028. godinu
A9: 7510 | B9: Prihodi od usluga (održavanje fontane i dr.) | C9: ='2025'!E9*2%+'2025'!E9 -> 0
A10: 7511 | B10: Prihodi od kavana-ugostiteljstvo | C10: ='2025'!E10*2%+'2025'!E10 -> 274511.11 | D10: =(C10*2%)+C10 -> 280001.33 | E10: =(D10*2%)+D10 -> 285601.36
A11: 7570 | B11: Prihodi od ulaznica (82.900,00 Grad subvencije za 2025.g.) | C11: ='2025'!E11*2%+'2025'!E11 -> 486531.22 | D11: =(C11*2%)+C11 -> 496261.84 | E11: =(D11*2%)+D11 -> 506187.08
A12: 7512 | B12: Ostali poslovni prihodi -proizvodnja el.energije | C12: ='2025'!E12*2%+'2025'!E12 -> 637.755 | D12: =(C12*2%)+C12 -> 650.5101 | E12: =(D12*2%)+D12 -> 663.5203
A13: 7800 | B13: Prihodi od naknadnih odobrenja- sniženja i popusta | C13: ='2025'!E13*2%+'2025'!E13 -> 25152.629 | D13: =(C13*2%)+C13 -> 25655.681 | E13: =(D13*2%)+D13 -> 26168.795
A14: 7837 | B14: Prihodi od Grada Daruvara - kapitalna pomoć | C14: ='2025'!E14*2%+'2025'!E14 -> 10592.894 | D14: =(C14*2%)+C14 -> 10804.752 | E14: =(D14*2%)+D14 -> 11020.847
A15: 7710 | B15: Prihodi od kamata po žiro računu i tečajnih razlika | C15: ='2025'!E15*2%+'2025'!E15 -> 1962.8166 | D15: =(C15*2%)+C15 -> 2002.0729 | E15: =(D15*2%)+D15 -> 2042.1144
A16: 7799 | B16: OSTALI NESPOMENUTI PRIHODI | C16: ='2025'!E16*2%+'2025'!E16 -> 598.6686 | D16: =(C16*2%)+C16 -> 610.64197 | E16: =(D16*2%)+D16 -> 622.85481
A17: 7811 | B17: Prihodi od prodaje dugotrajne imovine | C17: ='2025'!E17*2%+'2025'!E17 -> 0 | D17: =(C17*2%)+C17 -> 0 | E17: =(D17*2%)+D17 -> 0
A18: 7814 | B18: Inventurni viškovi na robi, proizvodima i zalihama siro | C18: ='2025'!E18*2%+'2025'!E18 -> 0 | D18: =(C18*2%)+C18 -> 0 | E18: =(D18*2%)+D18 -> 0
A19: 7840 | B19: Prihodi od usklađivanja zaliha | C19: ='2025'!E19*2%+'2025'!E19 -> 0 | D19: =(C19*2%)+C19 -> 0 | E19: =(D19*2%)+D19 -> 0
A20: 7860 | B20: Prihodi od potpora za pokriće troškova-HEP OPSKRBA | C20: ='2025'!E20*2%+'2025'!E20 -> 0 | D20: =(C20*2%)+C20 -> 0 | E20: =(D20*2%)+D20 -> 0
A21: 7861 | B21: Prihodi od državnih potpora za investicije (imovinu)-elektrana | C21: ='2025'!E21*2%+'2025'!E21 -> 11352.345 | D21: =(C21*2%)+C21 -> 11579.392 | E21: =(D21*2%)+D21 -> 11810.98
B22: UKUPNI PRIHODI | C22: =SUM(C9:C21) -> 811339.44 | D22: =SUM(D9:D21) -> 827566.23 | E22: =SUM(E9:E21) -> 844117.55
A24: Konto | B24: Opis
A25: 4000 | B25: Materijal i roba za ugostiteljstvo | C25: ='2025'!E25*2%+'2025'!E25 -> 80220.379 | D25: =(C25*2%)+C25 -> 81824.786 | E25: =(D25*2%)+D25 -> 83461.282
A26: 4002 | B26: Pomoćni materijal- wellnes | C26: ='2025'!E26*2%+'2025'!E26 -> 706.7274 | D26: =(C26*2%)+C26 -> 720.86195 | E26: =(D26*2%)+D26 -> 735.27919
A27: 4003 | B27: Pomoćni materijal u ugostiteljstvu | C27: ='2025'!E27*2%+'2025'!E27 -> 3248.6184 | D27: =(C27*2%)+C27 -> 3313.5908 | E27: =(D27*2%)+D27 -> 3379.8626
A28: 4004 | B28: Materija za čišćenje i održavanje (bazen) | C28: ='2025'!E28*2%+'2025'!E28 -> 9873.294 | D28: =(C28*2%)+C28 -> 10070.76 | E28: =(D28*2%)+D28 -> 10272.175
A29: 4005 | B29: Radna obuća i odjeća | C29: ='2025'!E29*2%+'2025'!E29 -> 1212.6882 | D29: =(C29*2%)+C29 -> 1236.942 | E29: =(D29*2%)+D29 -> 1261.6808
A30: 4010 | B30: Uredski potrošni materijal | C30: ='2025'!E30*2%+'2025'!E30 -> 1301.1528 | D30: =(C30*2%)+C30 -> 1327.1759 | E30: =(D30*2%)+D30 -> 1353.7194
A31: 4011 | B31: Materijal i sredstava za čišćenje i održavanje | C31: ='2025'!E31*2%+'2025'!E31 -> 4646.457 | D31: =(C31*2%)+C31 -> 4739.3861 | E31: =(D31*2%)+D31 -> 4834.1739
A32: 40111 | B32: Sredstva za održavanje i čišćenje | C32: ='2025'!E32*2%+'2025'!E32 -> 4207.041 | D32: =(C32*2%)+C32 -> 4291.1818 | E32: =(D32*2%)+D32 -> 4377.0055
A33: 40112 | B33: Elektromaterijal i pomoćni mat. za održavanje postrojenja | C33: ='2025'!E33*2%+'2025'!E33 -> 1095.0924 | D33: =(C33*2%)+C33 -> 1116.9942 | E33: =(D33*2%)+D33 -> 1139.3341
A34: 4012 | B34: Trošak ukrasnog bilja | C34: ='2025'!E34*2%+'2025'!E34 -> 0 | D34: =(C34*2%)+C34 -> 0 | E34: =(D34*2%)+D34 -> 0
A35: 4013 | B35: Trošak ambalaže | C35: ='2025'!E35*2%+'2025'!E35 -> 964.7364 | D35: =(C35*2%)+C35 -> 984.03113 | E35: =(D35*2%)+D35 -> 1003.7118
A36: 4017 | B36: Ostali materijalni troškovi | C36: ='2025'!E36*2%+'2025'!E36 -> 435.8358 | D36: =(C36*2%)+C36 -> 444.55252 | E36: =(D36*2%)+D36 -> 453.44357
... A44: 4071 | B44: Plin, toplinska energija, briketi i dr. | C44: ='2025'!E44*2%+'2025'!E44 -> 133.824 | D44: =(C44*2%)+C44 -> 136.50048 | E44: =(D44*2%)+D44 -> 139.23049
B45: mobilni telefon | C45: ='2025'!E45*2%+'2025'!E45 -> 1274.0004 | D45: =(C45*2%)+C45 -> 1299.4804 | E45: =(D45*2%)+D45 -> 1325.47
B46: fiksni telefon i Internet | C46: ='2025'!E46*2%+'2025'!E46 -> 0 | D46: =(C46*2%)+C46 -> 0 | E46: =(D46*2%)+D46 -> 0
A47: 41490 | B47: Tomsoft I El.računi,Orbis, Posluh | C47: ='2025'!E47*2%+'2025'!E47 -> 0 | D47: =(C47*2%)+C47 -> 0 | E47: =(D47*2%)+D47 -> 0
A48: 4101 | B48: Poštanski troškovi i troškovi dostave | C48: ='2025'!E48*2%+'2025'!E48 -> 23.0214 | D48: =(C48*2%)+C48 -> 23.481828 | E48: =(D48*2%)+D48 -> 23.951465
A49: 4102 | B49: PRIJEVOZNE USLUGE U CESTOVNOM PROMETU | C49: ='2025'!E49*2%+'2025'!E49 -> 193.8 | D49: =(C49*2%)+C49 -> 197.676 | E49: =(D49*2%)+D49 -> 201.62952
A50: 4108 | B50: Troškovi dostave | C50: ='2025'!E50*2%+'2025'!E50 -> 132.294 | D50: =(C50*2%)+C50 -> 134.93988 | E50: =(D50*2%)+D50 -> 137.63868
...
